BEGIN:VCALENDAR
VERSION:2.0
CREATED:20260422T152343Z
PRODID:-//Shoulder Innovations/Equisolve Calendar v1.0//EN
METHOD:PUBLISH
BEGIN:VEVENT
UID:81bb3367e91322c5fb5d967c0aaf78a6
DTSTAMP:20260423T115042Z
DTSTART:20260513T203000Z
DTEND:20260513T213000Z
SUMMARY:Shoulder Innovations Q1 2026 Earnings Call
DESCRIPTION:Shoulder Innovations Q1 2026 Earnings Call\nDate: May 13\, 2026 4:30 pm EDT\nWebcast: https://event.choruscall.com/mediaframe/webcast.html?webcastid=ospnpF1X
END:VEVENT
END:VCALENDAR
